BEGIN:VCALENDAR
VERSION:2.0
X-WR-CALNAME:www.indybay.org
PRODID:-//indybay/ical// v1.0//EN
BEGIN:VEVENT
UID:Indybay-18705855
SEQUENCE:18796811
CREATED:20120129T021500Z
DESCRIPTION:A Spike Lee film about Hurricane Katrina.  The film also looks at a 
 community that has been through hell and back, surviving death, devastation 
 and disease at every turn. Yet, somehow, amidst the ruins, the people of 
 New Orleans are finding new hope and strength as the city rises from the 
 ashes, buoyed by their own resilience and a rich cultural legacy.\n\nThis 
 is the second part of a two-part film/screening.  The first part will be 
 screened on Feb. 3rd.\n\nDiscussion at 7:30, film at 8.\n\nThis event is 
 free!\n https://www.indybay.org/newsitems/2012/01/28/18705855.php
SUMMARY:Screening: When the Levees Broke, Part 2
LOCATION:the Lavender Library \n1414 21st St.\nSacto, CA
URL:https://www.indybay.org/newsitems/2012/01/28/18705855.php
DTSTART:20120211T033000Z
DTEND:20120211T053000Z
END:VEVENT
END:VCALENDAR
