BEGIN:VCALENDAR
VERSION:2.0
X-WR-CALNAME:www.indybay.org
PRODID:-//indybay/ical// v1.0//EN
BEGIN:VEVENT
UID:Indybay-18705796
SEQUENCE:18796723
CREATED:20120128T040500Z
DESCRIPTION:Network with and pitch your stories to the CBS 5 news team and staff from 
 "Bay Sunday", "Eye on the Bay", "Black Renaissance", and "Bay Area Focus." 
 Reporter Christin Ayers emcees this special event. Food and drink will be 
 provided. This is a FREE event. RSVP is required.\n\nUrban Solutions is 
 proud to partner with CBS 5/The CW Cable 12 for this celebration, along 
 with support from Comerica Bank.\n 
 https://www.indybay.org/newsitems/2012/01/27/18705796.php
SUMMARY:Black History Month Celebration 2012
LOCATION:KPIX/KBCW Studios\n855 Battery St.\nSan Francisco, CA 94111\n\n
URL:https://www.indybay.org/newsitems/2012/01/27/18705796.php
DTSTART:20120203T020000Z
DTEND:20120203T040000Z
END:VEVENT
END:VCALENDAR
