BEGIN:VCALENDAR
VERSION:2.0
X-WR-CALNAME:www.indybay.org
PRODID:-//indybay/ical// v1.0//EN
BEGIN:VEVENT
UID:Indybay-18704942
SEQUENCE:18795535
CREATED:20120118T032500Z
DESCRIPTION:***TICKETS: Will be $9 and our webpage for ticket purchase will be 
 available very soon.***\n\n***TRAILER***  
 http://youtu.be/gWixLvfef0Y\n\nSan Francisco's chapter of Veterans for 
 Peace and Iraq Veterans Against the War are collaborating to bring you a 
 powerful documentary about real Americans going to fight our war in 
 Afghanistan, and will be followed with a discussion by some of our 
 members.\n\n"From a snowy small town in Northern Michigan to the mountains 
 of Afghanistan and back, WHERE SOLDIERS COME FROM follows the four-year 
 journey of childhood friends, forever changed by a faraway war.\n\nA 
 documentary about growing up, WHERE SOLDIERS COME FROM is an intimate look 
 at the young men who fight our wars and the families and town they come 
 from. Returning to her hometown, Director Heather Courtney gains 
 extraordinary access following these young men as they grow and change from 
 teenagers stuck in their town, to 23-year-old veterans facing the struggles 
 of returning home."\n\nIraq Veterans Against the War has been spearheading 
 a national campaign called "Operation Recovery", which is devoted to 
 stopping the re-deployment of traumatized troops. Our servicemembers are 
 seeing multiple deployments, even after experiencing severe traumatic brain 
 injury, post traumatic stress, and military sexual trauma which adds 
 tremendous stress to the individual and their already daunting process of 
 recovery.\n\nIVAW SF is fundraising to send a delegation to the Operation 
 Recovery convergence at Fort Hood in Killeen, Texas in order to bring the 
 campaign home to the bay.\n 
 https://www.indybay.org/newsitems/2012/01/17/18704942.php
SUMMARY:"Where Soldiers Come From" Film Screening
LOCATION:AMC Van Ness\n1000 Van Ness Ave\nSan Francisco, CA, 94109
URL:https://www.indybay.org/newsitems/2012/01/17/18704942.php
DTSTART:20120202T030000Z
DTEND:20120202T053000Z
END:VEVENT
END:VCALENDAR
