BEGIN:VCALENDAR
VERSION:2.0
X-WR-CALNAME:www.indybay.org
PRODID:-//indybay/ical// v1.0//EN
BEGIN:VEVENT
UID:Indybay-18704917
SEQUENCE:18795510
CREATED:20120117T225600Z
DESCRIPTION:Press Contact:\n\nLisa Gray-Garcia/ PoorNewsNetwork (510) 435-7500 /(415) 
 863-6306\n\nThe 5th annual Poetry Battle of ALL of the Sexes for Valentines 
 Poetry & Music will be hosted by Elvis\n\nWhen: 7pm, Tuesday, February 
 14th\n\nWhere: Uncle Al n Mama Dee's Cafe @ POOR Magazine -\n\n             
  2940 16th st #301 San Francisco, Ca 94103\n\nDonation for Dinner n Show: 
 $5-20.00\n\n\nThe 2012 Battle will feature a Homemade Healthy Dinner and 
 Dessert. Revolutionary Beats n Flows, Music n Shows-\n\nand our Ancestors 
 Glow\n\nOn a day normally equated with cutesy hallmark cards, flowers and 
 candy, challenge your partner (or future partner) to a battle of spoken 
 word, hip hop, poetry and/or flowetry in the ring! Singles welcome. If you 
 don't have a partner, we'll hook you up.\n\nThis year’s theme will be a 
 1950’s lounge – with both singers, poets and hip hop artists \n\nTo be 
 a music or poetry contender wit yo beatz, flows or sho sign up on-line by 
 emailing deeandtiny@ poormagazine.org. Each Contender pays $10.00 to enter. 
 Winners work will be published in the San Francisco Bay View and POOR 
 Magazine\n\nAll proceeds go to support POOR Magazine, a poor 
 people-led/indigenous people led, arts organization dedicated to providing 
 revolutionary media access, arts education and advocacy to communities 
 struggling with poverty and racism locally and globally.\n 
 https://www.indybay.org/newsitems/2012/01/17/18704917.php
SUMMARY:The 5th annual Poetry Battle of ALL of the Sexes for Valentines Poetry & Music
LOCATION:Uncle Al n Mama Dee's Cafe @ POOR Magazine -\n2940 16th st #301 San 
 Francisco, Ca 94103
URL:https://www.indybay.org/newsitems/2012/01/17/18704917.php
DTSTART:20120215T030000Z
DTEND:20120215T060000Z
END:VEVENT
END:VCALENDAR
