BEGIN:VCALENDAR
VERSION:2.0
X-WR-CALNAME:www.indybay.org
PRODID:-//indybay/ical// v1.0//EN
BEGIN:VEVENT
UID:Indybay-18704722
SEQUENCE:18795254
CREATED:20120114T181400Z
DESCRIPTION:There will be an orientation/workshop on nonviolent direct action and civil 
 disobedience, covering issues such as responses to police violence, 
 affinity groups and other organizational issues, consensus and feminist 
 process, the law and so on. Perfect for anyone who wants to take part in 
 any of the many serious actions to come, including Jan. 20 in SF, defending 
 foreclosed houses here or elsewhere in the Bay Area, March 1 at UCSC, and 
 March 5 in Sacramento.\n\nIt will be led by Rabbit and Snail, who have 
 between them years of experience in protesting, and doing such 
 workshops.\n\nIt will be 1 to 5 January 16, Monday, downtown. Contact 
 chris.hablesgray@stanfordalumi.org if you want to attend to get directions. 
 \n\n https://www.indybay.org/newsitems/2012/01/14/18704722.php
SUMMARY:Nonviolent Direct Action Training
LOCATION:Contact chris.hablesgray@stanfordalumni.org for location
URL:https://www.indybay.org/newsitems/2012/01/14/18704722.php
DTSTART:20120116T210000Z
DTEND:20120117T010000Z
END:VEVENT
END:VCALENDAR
