BEGIN:VCALENDAR
VERSION:2.0
X-WR-CALNAME:www.indybay.org
PRODID:-//indybay/ical// v1.0//EN
BEGIN:VEVENT
UID:Indybay-18704694
SEQUENCE:18795263
CREATED:20120113T193900Z
DESCRIPTION:Word Becomes Flesh is a fluid evening-length choreopoem written in the form 
 of a narrative verse play. Presented as a series of performed letters to an 
 unborn son, the piece uses poetry, dance and live music to document nine 
 months of pregnancy from a young single father's perspective. These 
 performed letters incorporate elements of ritual, archetypes, and symbolic 
 sites within the constructs of hip hop culture.  Directed by Marc Bamuthi 
 Joseph, and featuring Daveed Diggs, Dahlak Brathwaite, Dion Decibels, Ben 
 Turner, Mic Turner and B.Yung\n 
 https://www.indybay.org/newsitems/2012/01/13/18704694.php
SUMMARY:La Peña with the Black Choreographer’s Festival & Living Word Project: Word Becomes Flesh
LOCATION:Laney College Theater, 900 Fallon St., Oakland, CA., one block from Lake 
 Merrit BART
URL:https://www.indybay.org/newsitems/2012/01/13/18704694.php
DTSTART:20120212T040000Z
DTEND:20120212T060000Z
END:VEVENT
END:VCALENDAR
