BEGIN:VCALENDAR
VERSION:2.0
X-WR-CALNAME:www.indybay.org
PRODID:-//indybay/ical// v1.0//EN
BEGIN:VEVENT
UID:Indybay-18704578
SEQUENCE:18795069
CREATED:20120111T204300Z
DESCRIPTION:3rd Friday January: Poetry and Book Arts Extravaganza\n\nFriday January 20 
 2012 5-9pm, Poetry Readings 6-8pmThe Museum of Art & History 705 Front 
 Street Downtown Santa Cruz\n$5 General Admission, $3 Students\n\nJoin us at 
 the MAH for an evening of poetry, book arts, performances, discussions, 
 workshops and demonstrations for all ages and skill levels.\n\nThe MAH and 
 Book Arts Santa Cruz are bringing together some of Santa Cruz’s leading 
 book arts artists for this evening extravaganza. These artists will remind 
 you never to judge a book by its cover with workshops that transform the 
 printed page into altered books, book art sculpture, book collage and paper 
 folding books.\n\nLearn the art of papermaking, marbling, paper molds, 
 calligraphy, origami books, how to use a table top press, monoprinting, 
 laser cutting, and book binding.\n\nPoetry Santa Cruz has selected an array 
 of dynamic local poets for poetry readings in our auditorium from 6pm-8pm. 
 Listen in as the spoken word inspires you to write some of your own poems 
 throughout the museum.  Add your own poem, word, or line to our stairway of 
 chalk poems, poetry map of Santa Cruz, artwork and exhibitions.  And 
 don’t be surprised if a slam poet pops up in an unexpected place.\n\nIn 
 partnership with Book Arts Santa Cruz and Poetry Santa Cruz.\n\nThank you 
 to the following collaborating artists, poets and organizations: Chinquapin 
 UCSC, MakersFactory, Poetry Santa Cruz,  The Legendary Santa Cruz Poetry 
 Slam, Book Arts Santa Cruz, Sesnon Art Gallery, Wax Works West, Yuki Teiki 
 Haiku Society, Amber McCready,  Andy Couturier, Beth Regardz, Bonnie 
 Britton, Carl Rohrs, Charlene Chow, Chris Yonge, Connie Hunter, Crystal 
 Franco, Daniella Woolf, Danusha Laméris, David Sullivan, Donna Thomas, 
 Ellen Bass, Felicia Rice,  Gary Young, Ginnie Mickelson, Harriet Talan, 
 Heidi Cramer, Jasmine Shlafke, Jim Mackenzie,  Joan Zimmerman, Jody 
 Alexander, John Babcock,  Judy Stabile, Julie Rogge, Kate Hitt, Kevin 
 Holmes, Kristian Moore, Lawrence Van Velzer, Len Anderson, Linda Babcock,  
 Linda Stinchfield, Lisa Hoesing, Lois Rosson, Matt Cohen, Neno Villamor, 
 Peggy Gotthold,  Peter Thomas, Peter Martin, Robert Sward, Ruth McGurk, Sam 
 Amico and Storm Thomas.\n 
 https://www.indybay.org/newsitems/2012/01/11/18704578.php
SUMMARY:3rd Friday January: Poetry and Book Arts Extravaganza
LOCATION:Located in The Museum of Art & History at the McPherson Center\n705 Front 
 Street, Santa Cruz, CA\n95060 
URL:https://www.indybay.org/newsitems/2012/01/11/18704578.php
DTSTART:20120121T010000Z
DTEND:20120121T050000Z
END:VEVENT
END:VCALENDAR
