BEGIN:VCALENDAR
VERSION:2.0
X-WR-CALNAME:www.indybay.org
PRODID:-//indybay/ical// v1.0//EN
BEGIN:VEVENT
UID:Indybay-18704493
SEQUENCE:18794902
CREATED:20120110T214400Z
DESCRIPTION:Hot off the presses! The News is the place to see what’s new in queer 
 performance. On the first Tuesday of each month The News casts a spotlight 
 on experiments, new and debut works, and works in progress by pre-selected 
 solo artists, groups, or troupes. An informal session for critical feedback 
 follows the performances.\n\nThe first edition of The News features Rotimi 
 Agbabiaka, DIAmanda Kallas II Dia Dear, La Chica Boom, Peter Max Lawrence, 
 Marissa Majick, the Brontez Purnell Dance Company, Kolmel WithLove, and 
 Shaunna Vella.\n\nHouse opens at 7:00pm and space is limited. Admission is 
 $5. Advance tickets may be purchased at 
 thenewsperformance.eventbrite.com.\n\nFor performing artist bios, please 
 visit: http://www.somarts.org/thefebruarynews\n\nWhat: The News\nWhere: 
 SOMArts Cultural Center (934 Brannan St., between 8th and 9th)\nWhen: 
 Tuesday, Feb. 7, 2011, 7:30pm–9:00pm, house opens 7:00pm\nWhat else: 
 Admission is $5. Advance tickets can be purchased at 
 thenewsperformance.eventbrite.com/\nMore Information: 
 http://www.somarts.org/thenews\n 
 https://www.indybay.org/newsitems/2012/01/10/18704493.php
SUMMARY:The News: Fresh, Queer Performance
LOCATION:SOMArts Cultural Center\n934 Brannan St\nSan Francisco, Ca 94103
URL:https://www.indybay.org/newsitems/2012/01/10/18704493.php
DTSTART:20120208T033000Z
DTEND:20120208T053000Z
END:VEVENT
END:VCALENDAR
