BEGIN:VCALENDAR
VERSION:2.0
X-WR-CALNAME:www.indybay.org
PRODID:-//indybay/ical// v1.0//EN
BEGIN:VEVENT
UID:Indybay-18704347
SEQUENCE:18794723
CREATED:20120108T021300Z
DESCRIPTION:EDIBLE & MEDICINAL PLANTS OF THE BAY AREA: A BIOREGIONAL EXPLORATION 
 \n(Seasonal Herb Walk Series) \n\nFrom the mist shrouded sea cliffs to the 
 sun-baked arid expanse of its eastern most regions, the San Francisco Bay 
 area provides us with a chance to view a large variety of botanical 
 specimens all within a relatively small geographical range. Join us as we 
 discover together the diverse array of both edible and medicinal plants 
 found growing within these contrasting yet closely interconnected 
 micro-climates. Historical and modern medicinal applications will be 
 covered along with any edible and/or utilitarian potential. Tips on basic 
 plant identification will be offered, with an emphasis on how to 
 differentiate poisonous look-alike plants from their beneficial 
 counterparts. Plant family characteristics will be discussed as well. 
 \n\n-WINTER SESSION- \n\n\nGlenn Canyon Park (San Francisco, CA). Saturday, 
 January 28. 10am-2pm. \n\nSibley Volcanic Regional Preserve (Oakland, CA). 
 Sunday, February 5. 10am-2pm. \n\nSamuel P. Taylor State Park (Lagunitas, 
 CA). Sunday, February 26. 10am-4pm. \n\nButano State Park (Pescadero, CA). 
 Sunday, March 4. 10am-4pm. \n\n\nInstructor: Tellur Fenner \n\nMake sure to 
 bring: Water, lunch, notebook, hat/sunscreen, rain gear, and a camera. 
 \n\nRegistration: Email (preferred): bluewindbmc [at] gmail.com \nPhone: 
 510-428-1810 \n\nFacebook Page: http://www.facebook.com/bluewindbmc 
 \n\nWebsite: http://www.bluewindbmc.com \n\n\n 
 https://www.indybay.org/newsitems/2012/01/07/18704347.php
SUMMARY:EDIBLE & MEDICINAL PLANTS OF THE BAY AREA: A BIOREGIONAL EXPLORATION (Seasonal Herb Walks)
LOCATION:Sibley Volcanic Regional Preserve (Oakland, CA)
URL:https://www.indybay.org/newsitems/2012/01/07/18704347.php
DTSTART:20120205T180000Z
DTEND:20120205T220000Z
END:VEVENT
END:VCALENDAR
