BEGIN:VCALENDAR
VERSION:2.0
X-WR-CALNAME:www.indybay.org
PRODID:-//indybay/ical// v1.0//EN
BEGIN:VEVENT
UID:Indybay-18704334
SEQUENCE:18794717
CREATED:20120107T224300Z
DESCRIPTION:National Day of Action - 80+ Occupations \nOCCUPY THE COURTS \nCorporations 
 are NOT people! Money is NOT speech! \nEnd Corporate Personhood! 
 \n\nFriday, January 20, 2012 \n8 AM: Protest, Street Theater... All 
 Day\nOakland Federal Courthouse \nClay St., between 13th and 14th St. 
 \n\n11 AM: Take BART to SF to join \nOCCUPY WALL $TREET WEST actions at 
 noon. \nPick the action you want to join: \n* SF OCCUPY the COURTS (Civic 
 Center BART march to Fed Courthouse) \n* Occupy Oakland's RECLAIM the 
 STREETS (Embarcadero BART) \n 
 https://www.indybay.org/newsitems/2012/01/07/18704334.php
SUMMARY:Occupy the Courts - Oakland
LOCATION:Oakland Federal Building\n1301 Clay St.\nOakland, CA, 94626\n
URL:https://www.indybay.org/newsitems/2012/01/07/18704334.php
DTSTART:20120120T160000Z
DTEND:20120121T010000Z
END:VEVENT
END:VCALENDAR
