BEGIN:VCALENDAR
VERSION:2.0
X-WR-CALNAME:www.indybay.org
PRODID:-//indybay/ical// v1.0//EN
BEGIN:VEVENT
UID:Indybay-18704318
SEQUENCE:18794690
CREATED:20120107T200400Z
DESCRIPTION:The Fools' School presents:SHOW US! Text, images, objects, movement, sound 
 can all be part of freewheeling “performance art.”  This introductory 
 class will help you formulate you ideas, structure them,  and realize them 
 in front of an audience whether that audience is in a theater, gallery, 
 park or street.  We can develop solo performance pieces or, if you've got 
 someone you'd like to work with, attend together and explore a 
 collaboration.  For artists in all disciplines as well as techies with a 
 creative yen and adventurous non-artists.  While we'll talk about the 
 history of performance art this is mostly a “do” class, so bring 
 something to the first session that excites you. Free.  Six consecutive 
 Saturdays 12 noon to 1:45 PM starting January 21st at Viracocha, 
 Valencia@21st in the Mission.  Info: stan.kap5000@gmail.com\n\n 
 https://www.indybay.org/newsitems/2012/01/07/18704318.php
SUMMARY:SHOW US! Performance Art
LOCATION:Viracocha, Valencia@21st St in the Mission, SF 94110
URL:https://www.indybay.org/newsitems/2012/01/07/18704318.php
DTSTART:20120121T200000Z
DTEND:20120121T220000Z
END:VEVENT
END:VCALENDAR
