BEGIN:VCALENDAR
VERSION:2.0
X-WR-CALNAME:www.indybay.org
PRODID:-//indybay/ical// v1.0//EN
BEGIN:VEVENT
UID:Indybay-18704279
SEQUENCE:18794648
CREATED:20120107T034700Z
DESCRIPTION:The phenomenal response to last year’s event has spawned a new tradition 
 in the community! \n\nWe’re very excited to announce that the Second 
 Annual Berkeley Vegan Earth Day will happen Sunday April 22, 2012. It has 
 grown from an evening event to an all-day extravaganza that will include 
 films, workshops, panel discussions and an eclectic assortment of speakers. 
 \n\nArea businesses will be on-site with products to sample and buy, while 
 non-profit groups will be there with a wealth of information about their 
 eco/vegan organizations.\n 
 https://www.indybay.org/newsitems/2012/01/06/18704279.php
SUMMARY:Second Annual Berkeley Vegan Earth Day
LOCATION:UC Berkeley Campus, 112 Wurster Hall (map at 
 http://www.berkeleyveganearthday.com/map/)
URL:https://www.indybay.org/newsitems/2012/01/06/18704279.php
DTSTART:20120422T170000Z
DTEND:20120423T010000Z
END:VEVENT
END:VCALENDAR
