BEGIN:VCALENDAR
VERSION:2.0
X-WR-CALNAME:www.indybay.org
PRODID:-//indybay/ical// v1.0//EN
BEGIN:VEVENT
UID:Indybay-18704138
SEQUENCE:18794429
CREATED:20120104T174400Z
DESCRIPTION:“Grief Beyond Belief” is a Facebook page for secular people who prefer 
 to grieve without god.  Rebecca, a school Counselor, last year suffered the 
 illness and then death of her infant son. \nMainstream grief groups are 
 immersed in magical thinking about a blissful afterlife and loved ones who 
 communicate from that invisible world.  She formed the popular Facebook 
 page, which describes itself as providing “faith-free support for 
 non-religious people grieving the death of a loved one.”\n“As the 
 secular movement matures in this country, it must create institutions that 
 support our community. Rebecca’s story is a concrete example of that 
 process. Let’s welcome her and learn from her example.\n 
 https://www.indybay.org/newsitems/2012/01/04/18704138.php
SUMMARY:Rebecca Hensler Speaks on “Grief Beyond Belief” to East Bay Atheists
LOCATION:Berkeley Public Library\n2090 Kittredge Street\nBerkeley, CA 94704
URL:https://www.indybay.org/newsitems/2012/01/04/18704138.php
DTSTART:20120115T213000Z
DTEND:20120115T233000Z
END:VEVENT
END:VCALENDAR
