BEGIN:VCALENDAR
VERSION:2.0
X-WR-CALNAME:www.indybay.org
PRODID:-//indybay/ical// v1.0//EN
BEGIN:VEVENT
UID:Indybay-18703497
SEQUENCE:18793565
CREATED:20111228T165500Z
DESCRIPTION:Ride your bike throughout San Francisco with other friendly cyclists - ride 
 slow / talk fast.  \n 
 https://www.indybay.org/newsitems/2011/12/28/18703497.php
SUMMARY:San Francisco Critical Mass Bike Ride
LOCATION:Gather at Justin Herman Plaza / Embarcadero BART / foot of Market St. 
URL:https://www.indybay.org/newsitems/2011/12/28/18703497.php
DTSTART:20111231T020000Z
DTEND:20111231T040000Z
END:VEVENT
END:VCALENDAR
