BEGIN:VCALENDAR
VERSION:2.0
X-WR-CALNAME:www.indybay.org
PRODID:-//indybay/ical// v1.0//EN
BEGIN:VEVENT
UID:Indybay-18703281
SEQUENCE:18793223
CREATED:20111223T043400Z
DESCRIPTION:Electronic Awakening is an ethnographic documentary film that investigates 
 the spirituality of Electronic Music dance culture and its ties to ancient 
 shamanic rituals. The film features dozens of experts, visionaries, and 
 published authors who explore the premise that Electronic Music is 
 spiritual technology that allows access to higher states of 
 consciousness.\n\nFilmed over a period of 5 years at events such as Burning 
 Man, Earthdance, LoveFest, Moontribe, Wicked, Shambhala and the Boom 
 Festival in Portugal. Electronic Awakening reviews rave's evolution from 
 large-scale commercial events to smaller gatherings in remote locations. 
 The film offers insight into the inner workings of the brain and its 
 metaphysical connection to the repetitive beats that allow for that sense 
 of oneness, unity and freedom that millions feel on the dance floor. It 
 also investigates this culture's significance to the prophecies of 2012, 
 how this bizarre and sacral relationship to electronic music has evolved 
 the group over time, and where it all seems to be leading them.\n\nWith 
 world-renowned artists such as Shpongle, The Crystal Method, Vibrasphere, 
 Random Rab, Phuture Primitive, Androcell, Bird of Prey, Sheff, Jason 
 Knight, Govinda, Gladkill, Goldrush, Desert Dwellers, Eastern Sun, Solar 
 Fields, Grouch, Satsi and many more... \n\nFeaturing interviews 
 with:\nDaniel Pinchbeck: Journalist Author of "Breaking Open the 
 Head",\nAlex Grey: World Renowned Visionary Artist,\nTerence McKenna: 
 Author of "True Hallucinations",\nKen Kesey: Author and Producer of the 
 infamous 1960s Acid Tests,\nErik Davis: Author of "Techgnosis",\nStarhawk: 
 Author of "The Spiral Dance", "The Fifth Sacred Thing",\nDr. Robin Sylvan: 
 Religious Studies Scholar, Author of "Tranceformations",\nDr. Graham St 
 John: Author and Researcher of Electronic Music Culture,\nDr. Anthony 
 D'Andrea: Author of Global Nomads\nMoontribe's Founding Members: Hayworth, 
 Dallas, Tania, Dusti,\n 
 https://www.indybay.org/newsitems/2011/12/22/18703281.php
SUMMARY:Electronic Awakening
LOCATION:Madrone Studios\n1417 15th Street\nSan Francisco, CA 
 94103\n415-800-8116\nhttp://www.madronestudios.com
URL:https://www.indybay.org/newsitems/2011/12/22/18703281.php
DTSTART:20111230T033000Z
DTEND:20111230T073000Z
END:VEVENT
END:VCALENDAR
