BEGIN:VCALENDAR
VERSION:2.0
X-WR-CALNAME:www.indybay.org
PRODID:-//indybay/ical// v1.0//EN
BEGIN:VEVENT
UID:Indybay-18700770
SEQUENCE:18789612
CREATED:20111123T000900Z
DESCRIPTION:International Indian Treaty Council and American Indian Contemporary Arts 
 present\n\nIndigenous Peoples Thanksgiving\nAnnual Sunrise Gathering on 
 Alcatraz\n\n“Giving thanks to the Creator for our survival and spirit of 
 resistance.”\n\nSpecial honoring for the struggle to protect sacred 
 places.\n\nNovember 24th, 2011\nAlcatraz Island\nSan Francisco\nMuwekma 
 Ohlone Territory\n\nBoats leave from Pier 33 at 4:45 am and every 15 
 minutes until 6:00 am\nTickets are $14 (children under 5 are free) and can 
 be purchased online at: http://www.alcatrazcruises.com\n\nAll Nations and 
 Peoples welcome to join \n\nMC Lakota Harden\n\nSpecial Guest Speakers 
 Leonard Foster (Dine), Andrea Carmen (Yaqui), Aztec Dancers, Pomo Dancers, 
 Oceania Coalition of Northern California, Jeremy Goodfeather and other 
 special guests \n\nNo sales of any kind will be allowed at this event.\nNo 
 leafleting permitted.\nAbsolutely NO alcohol or drugs of any kind.\nEvent 
 is wheelchair accessible.\n\nEvent will be simulcast on KPFA 94.1 and 
 online at http://www.kpfa.org\n\nFor more information please visit 
 http://www.treatycouncil.org\nor contact Mark Anquoe at (415) 641-4482 or 
 mark@treatycouncil.org\n 
 https://www.indybay.org/newsitems/2011/11/22/18700770.php
SUMMARY:Indigenous Peoples Thanksgiving Annual Sunrise Gathering on Alcatraz
LOCATION:Pier 33 (Alcatraz Cruises) going to Alcatraz Island
URL:https://www.indybay.org/newsitems/2011/11/22/18700770.php
DTSTART:20111124T200000Z
DTEND:20111124T220000Z
END:VEVENT
END:VCALENDAR
