BEGIN:VCALENDAR
VERSION:2.0
X-WR-CALNAME:www.indybay.org
PRODID:-//indybay/ical// v1.0//EN
BEGIN:VEVENT
UID:Indybay-18700630
SEQUENCE:18789524
CREATED:20111122T022100Z
DESCRIPTION:Join MAPS on Saturday December 10th for The Medicine Ball as we celebrate 
 25 years of uniting art, medicine, science and music through psychedelic 
 and medical marijuana research and education. \n\nThis late night 
 electronic dance extravaganza will feature some of today’s most sought 
 after DJ’s, producers, artists and performers displaying their own 
 personal inspirations and creative explorations through sound and art like 
 you’ve never seen before. As well as feature a number of interactive art 
 exhibits and installations for guests to explore and discover throughout 
 the evening and well into another world. \n\nThe Medicine Ball will feature 
 epic musical explosions by one of the most influential artists to ever rock 
 the bass scene, Daly City Records superstar, Mochipet (SF) alongside the 
 master of polytemponic glitch bass himself, Sugarpill ( LA).\n\nBe prepared 
 for a mind blowing mystical experience as legendary producer and songstress 
 Ill-Esha (Vancouver B.C.) teams up with the Bay Area’s own poetic genius, 
 Joe Mousepad (SF) for an enlightening journey you will not forget. Sweet 
 melodies and bouncing bass continue throughout this EPIC celebration with 
 special sets by Mihkal (SF), VNDMG (Salt Lake City, UT) and Michael 
 Garfield (TX).\n\nExplore the highly anticipated digital installation park, 
 complete with six different interactive exhibits, curated and designed by 
 the infamous False Profit Artist Collective. (SF) Amaze your senses in The 
 Mechanical Garden and HeartBeat Amplifier.\n\nWitness top visionary 
 performance by Phadroid (SF) bringing you out of this world and surrounding 
 the evening in magical movement. \n\nUnwind and let free inside the 
 ultimate Relaxation Space provided by the OmShanTea and Saraswati Tea 
 Houses. Take a trip through the TeacherBus/MagicBusSF and journey through 
 the Visionary Art Gallery with Live Media Art by VJ All of it 
 Now.\n\nDelight and indulge all your senses in this highly interactive 
 playground of sound, light, sculpture, and performance. So grab your 
 closest friends and we’ll meet you on the magical Medicine Ball dance 
 floor. \n\nThe Medicine Ball is the exhilarating after party to 
 Cartographie Pyschedelica 2011!\n	       \nJoin MAPS for four days of 
 education and entertainment in celebration of 25 years of psychedelic and 
 medical marijuana research and education. \n\nConference • Workshops • 
 Banquet • Party • Auction • Cruise\n\nFor more information about the 
 MAPS 25th Anniversary Celebration please visit:  
 www.maps.org/25\n\nParticipate in this celebratory event knowing that all 
 proceeds from The Medicine Ball will go towards funding another 25 years of 
 research into the beneficial applications of MDMA, LSD, ayahuasca, 
 ibogaine, medical marijuana, and others.\n\nStandalone tickets for The 
 Medicine Ball only are $25 per person/ pre-sale\nThey can be purchased 
 online at www.maps.org/25 \n• VIP All-Access Conference Passes include 
 admission to The Medicine Ball \n   at no additional charge.\n\n• $30 
 tickets available at door, however please keep in mind MAPS events    often 
 sell out, so make sure to get your pre-sale tickets early to partake in 
 this  extravagant affair!\n\nThose interested in contributing interactive 
 exhibits for the event, \nplease contact Jessica Riley: 
 jessica@maps.org\n\nTICKET INFO:\n\n$25 online\n$30 door\nwww.maps.org/25\n 
 https://www.indybay.org/newsitems/2011/11/21/18700630.php
SUMMARY:MAPS 25th Anniversary: The Medicine Ball
LOCATION:Oakland Marriott City Center East Hall \n1001 Broadway\nOakland, CA 
 94607\n(510) 451-4000\n
URL:https://www.indybay.org/newsitems/2011/11/21/18700630.php
DTSTART:20111211T040000Z
DTEND:20111211T100000Z
END:VEVENT
END:VCALENDAR
