BEGIN:VCALENDAR
VERSION:2.0
X-WR-CALNAME:www.indybay.org
PRODID:-//indybay/ical// v1.0//EN
BEGIN:VEVENT
UID:Indybay-18699765
SEQUENCE:18788259
CREATED:20111117T061900Z
DESCRIPTION:MIC CHECK FBI DIRECTOR ROBERT MUELLER!\n\nStop the U.S. War OF Terror on 
 the World\n https://www.indybay.org/newsitems/2011/11/16/18699765.php
SUMMARY:Occupy The Commonwealth Club
LOCATION:595 Market Street\nSan Francisco
URL:https://www.indybay.org/newsitems/2011/11/16/18699765.php
DTSTART:20111117T190000Z
DTEND:20111117T203000Z
END:VEVENT
END:VCALENDAR
