BEGIN:VCALENDAR
VERSION:2.0
X-WR-CALNAME:www.indybay.org
PRODID:-//indybay/ical// v1.0//EN
BEGIN:VEVENT
UID:Indybay-18699585
SEQUENCE:18787983
CREATED:20111115T203700Z
DESCRIPTION:Join Arts Benicia for an afternoon of art activities that will engage the 
 entire family!\n\nFamily Art Days are free and open to the public.\n 
 https://www.indybay.org/newsitems/2011/11/15/18699585.php
SUMMARY:Gems Family Art Day
LOCATION:Arts Benicia\n991 Tyler Street #114\nBenicia, CA 94510
URL:https://www.indybay.org/newsitems/2011/11/15/18699585.php
DTSTART:20111204T210000Z
DTEND:20111204T230000Z
END:VEVENT
END:VCALENDAR
