BEGIN:VCALENDAR
VERSION:2.0
X-WR-CALNAME:www.indybay.org
PRODID:-//indybay/ical// v1.0//EN
BEGIN:VEVENT
UID:Indybay-18699401
SEQUENCE:18787693
CREATED:20111114T193300Z
DESCRIPTION:Who is growing YOUR food?\nWhere is YOUR money going?\nHow can YOU take 
 action?\n\nCome to this workshop hosted by Friends of the Community 
 Agroecology Network (FoCAN), and learn how to OCCUPY the FOOD 
 SYSTEM!\n\nFree Dinner!\nFree Speech!\nFree Education!\n 
 https://www.indybay.org/newsitems/2011/11/14/18699401.php
SUMMARY:Occupy the Food System: A World Café Workshop
LOCATION:Kresge Student Lounge, UCSC
URL:https://www.indybay.org/newsitems/2011/11/14/18699401.php
DTSTART:20111115T023000Z
DTEND:20111115T043000Z
END:VEVENT
END:VCALENDAR
