BEGIN:VCALENDAR
VERSION:2.0
X-WR-CALNAME:www.indybay.org
PRODID:-//indybay/ical// v1.0//EN
BEGIN:VEVENT
UID:Indybay-18697516
SEQUENCE:18785344
CREATED:20111104T231900Z
DESCRIPTION:The Middle East Children's Alliance welcomes the East Bay to a Wine and 
 Cheese Reception at our gallery space in Oakland:\n\n“A Child’s View 
 from Gaza”\n917 Washington Street\nOakland, CA (near 12th Street BART 
 station)\n\nEvent is free of charge!\n\nThis free event will give you a 
 chance to see the drawings before the exhibit is over! Please come to view 
 the art, enjoy classical Arabic music, and learn how you can get more 
 involved with MECA!\n\nWine and non-alcoholic beverages will be available 
 per contribution\n\nFor more info, 510-548-0542, www.mecaforpeace.org\n 
 https://www.indybay.org/newsitems/2011/11/04/18697516.php
SUMMARY:Wine and Cheese Reception at "A Child's View from Gaza" Art Exhibit
LOCATION:"A Child's View from Gaza Art Exhibit"\nMECA Gallery\n917 Washington 
 Street\nOakland, CA
URL:https://www.indybay.org/newsitems/2011/11/04/18697516.php
DTSTART:20111117T010000Z
DTEND:20111117T030000Z
END:VEVENT
END:VCALENDAR
