BEGIN:VCALENDAR
VERSION:2.0
X-WR-CALNAME:www.indybay.org
PRODID:-//indybay/ical// v1.0//EN
BEGIN:VEVENT
UID:Indybay-18696375
SEQUENCE:18783941
CREATED:20111101T022000Z
DESCRIPTION:THE UNCOMFORTABLE ZONES OF FUN \nexperiments in experience/participation 
 performance\n\nThe Underground Hit!	   \nCRITIC'S CHOICE: East Bay 
 Express\n\nFrank Moore, world-known shaman performance artist, will conduct 
 improvised passions of musicians, actors, dancers, and audience members in 
 a laboratory setting to create altered realities of fusion beyond taboos. 
 Bring your passions and musical instruments and your senses of adventure 
 and humor. Other than that, ADMISSION IS FREE! (But donations are 
 encouraged.)\n\nSaturday, November 19, 2011\n8pm\n\nTEMESCAL ART 
 CENTER\n511 48th Street\nOakland, CA 94609-2058\n\nFor more 
 information\nCall: 510-526-7858\nemail: 
 fmoore@eroplay.com\nhttp://www.eroplay.com/events.html 
 \nhttp://www.temescalartcenter.org/index.html \n\n2011 
 Dates!\n\n12/16\n\n2012 
 Dates!\n1/7\n2/4\n3/3\n4/7\n5/5\n6/2\n7/7\n8/4\n9/1\n10/6\n11/3\n12/1\n\n“Frank 
 Moore, a genius explorer of the frontiers of human affection.”  
 www.reddit.com\n\n“We came, we saw, we read local performance 
 artist-provocateur Frank Moore’s poem … experience the joys of 
 unsettled discomfort …”  Kimberly Chun, SF Chronicle\n\n"...He's 
 wonderful and hilarious and knows exactly what it's all about and has 
 earned my undying respect. What he's doing is impossible, and he knows it. 
 That's good art...." L.A. Weekly\n\n“Merging improv, erotica, 
 entertainment, religion and ritual, Frank Moore – self-styled shaman, 
 world-renowned disabled performance artist, and 2008 presidential candidate 
 ...." – East Bay Express\n\n"If performance art has a radical edge, it 
 has to be Frank Moore." Cleveland Edition\n\n"Surely wonderful and 
 mind-goosing experience." L.A. Reader  \n\nDownloadable poster 
 here:\nhttp://www.eroplay.com/UZOF_NOV_2011.pdf \n\n 
 https://www.indybay.org/newsitems/2011/10/31/18696375.php
SUMMARY:THE UNCOMFORTABLE ZONES OF FUN experiments in experience/participation performance
LOCATION:TEMESCAL ART CENTER\n511 48th Street\nOakland, CA 94609-2058
URL:https://www.indybay.org/newsitems/2011/10/31/18696375.php
DTSTART:20111120T040000Z
DTEND:20111120T070000Z
END:VEVENT
END:VCALENDAR
