BEGIN:VCALENDAR
VERSION:2.0
X-WR-CALNAME:www.indybay.org
PRODID:-//indybay/ical// v1.0//EN
BEGIN:VEVENT
UID:Indybay-18696275
SEQUENCE:18783811
CREATED:20111031T165200Z
DESCRIPTION:Brookdale’s Eric Hammer will officially announce his candidacy for County 
 Supervisor (5th District) at a special event in Boulder Creek on Thursday 
 November 17.  The community is invited to join Eric, his wife Susan and 
 dozens of local luminaries at Scopazzi’s Restaurant (13300 Big Basin Way) 
 beginning at 5:30 PM.  \n 
 https://www.indybay.org/newsitems/2011/10/31/18696275.php
SUMMARY:Eric Hammer for Supervisor Campaign Kickoff
LOCATION:Scopazzi's Restaurant, 13300 Big Basin Way, Boulder Creek\n
URL:https://www.indybay.org/newsitems/2011/10/31/18696275.php
DTSTART:20111118T013000Z
DTEND:20111118T030000Z
END:VEVENT
END:VCALENDAR
