BEGIN:VCALENDAR
VERSION:2.0
X-WR-CALNAME:www.indybay.org
PRODID:-//indybay/ical// v1.0//EN
BEGIN:VEVENT
UID:Indybay-18694072
SEQUENCE:18780823
CREATED:20111018T195900Z
DESCRIPTION:Man as Object: Reversing the Gaze is a traveling survey of 117 artworks 
 debuting at SOMArts which place the male form in a position of objecthood 
 and reverse conventional hierarchies in the culture of display. The 
 exhibition includes an extensive collection of male adoration, male 
 impersonation and male appendages, as well as works which probe 
 contemporary expressions of feminism.\n\nOpening reception will include the 
 dedication of Sylvia Sleigh’s painting “Lawrence and Susana Delgado” 
 to Mills College. Chanel Matsunami Govreau performs “Hapa Bruthas,” an 
 exploration of Hapa male and Asian male sexuality, brotherhood, and the 
 effects of interracial dating in Asian American communities from a 
 mixed-Asian woman’s perspective.\n\n 
 https://www.indybay.org/newsitems/2011/10/18/18694072.php
SUMMARY:Man as Object: Reversing the Gaze Opening Reception Artwork Dedication and Performance
LOCATION:SOMArts Cultural Center \n934 Brannan St\nSan Francisco, Ca 94103
URL:https://www.indybay.org/newsitems/2011/10/18/18694072.php
DTSTART:20111105T010000Z
DTEND:20111105T040000Z
END:VEVENT
END:VCALENDAR
