BEGIN:VCALENDAR
VERSION:2.0
X-WR-CALNAME:www.indybay.org
PRODID:-//indybay/ical// v1.0//EN
BEGIN:VEVENT
UID:Indybay-18692260
SEQUENCE:18778429
CREATED:20111006T000600Z
DESCRIPTION:Take to the streets! Come to Laney College in Oakland to demand jobs, 
 workers’ rights, education funding, military cuts, environmental 
 protection, Medicare for all, Social Security protection, fair share taxes 
 on the rich, and corporate money out of politics. Endorsed by MoveOn, Bay 
 Area labor councils, and community groups. Peaceful, family-friendly march 
 to the Federal Building and Ogawa Plaza. Music and spoken word 
 performances. We’ll symbolically nail a list of demands to Congress's 
 door (we’ll supply the door). www.jobs-not-cuts.org.\n 
 https://www.indybay.org/newsitems/2011/10/05/18692260.php
SUMMARY:Jobs Not Cuts March and Rally
LOCATION:Laney College, Oakland, near Lake Merritt BART station; march to Federal 
 Building and then to Frank Ogawa Plaza, at 12th Street BART station for 
 rally
URL:https://www.indybay.org/newsitems/2011/10/05/18692260.php
DTSTART:20111015T200000Z
DTEND:20111015T230000Z
END:VEVENT
END:VCALENDAR
