BEGIN:VCALENDAR
VERSION:2.0
X-WR-CALNAME:www.indybay.org
PRODID:-//indybay/ical// v1.0//EN
BEGIN:VEVENT
UID:Indybay-18692056
SEQUENCE:18778102
CREATED:20111003T232400Z
DESCRIPTION:We're starting a weekly open mic night, Wednesdays at 8pm after general 
 assembly and working groups. Join us!\n 
 https://www.indybay.org/newsitems/2011/10/03/18692056.php
SUMMARY:OccupySF open mic night!
LOCATION:In front of the Federal Reserve Bank, 101 Market St.
URL:https://www.indybay.org/newsitems/2011/10/03/18692056.php
DTSTART:20111006T030000Z
DTEND:20111006T070000Z
END:VEVENT
END:VCALENDAR
