BEGIN:VCALENDAR
VERSION:2.0
X-WR-CALNAME:www.indybay.org
PRODID:-//indybay/ical// v1.0//EN
BEGIN:VEVENT
UID:Indybay-18691909
SEQUENCE:18777918
CREATED:20111002T105500Z
DESCRIPTION:OccupySF is an indefinite occupation outside of the Federal Reserve Bank in 
 solidarity with Occupy Wall Street in New York.\n\nToday we're having live 
 music around two, and a banner-painting party at three, followed by our 
 daily general assembly at six.\n\nStay and camp out with us if you can!\n 
 https://www.indybay.org/newsitems/2011/10/02/18691909.php
SUMMARY:Sidewalk party!
LOCATION:101 Market Street, the Federal Reserve Bank
URL:https://www.indybay.org/newsitems/2011/10/02/18691909.php
DTSTART:20111002T210000Z
DTEND:20111003T010000Z
END:VEVENT
END:VCALENDAR
