BEGIN:VCALENDAR
VERSION:2.0
X-WR-CALNAME:www.indybay.org
PRODID:-//indybay/ical// v1.0//EN
BEGIN:VEVENT
UID:Indybay-18690350
SEQUENCE:18775754
CREATED:20110915T055200Z
DESCRIPTION:Lache Cercel and the Roma Swing Ensemble Press Release\n\n                  
                                                                             
         FOR IMMEDIATE RELEASE\n\n\nGYPSY JAZZ FROM THE BALKANS - LACHE 
 CERCEL AND THE ROMA SWING ENSEMBLE SAN FRANCISCO BAY AREA TOUR  - SEPT. 28 
 – OCT. 5, 2011\nMill Valley, Mission/San Francisco, Santa Cruz, and 
 Berkeley\n\n Since being invited to perform at the Mill Valley Djangofest, 
 Lache Cercel and the Roma Swing Ensemble will tour the San Francisco Bay 
 area for the first time, Sept. 27 th. – Oct. 6th. Lache Cercel is a 
 Romanian violinist virtuoso and composer that became one of Romania’s 
 biggest stars and was awarded the Artist of the People Citation from the 
 Romanian government, before immigrating to Canada. Since then, he 
 specifically picked a group of elite musicians to help create and perform a 
 gypsy jazz sound that is reminiscent of Stephen Grappelli and Django 
 Reinhardt, but complimented with Lache’s personal brand of authentic 
 traditional Roma flare. This world-renowned ensemble is known as the Roma 
 Swing Ensemble, which represents the latest chapter in an important 
 movement in Canadian World Music. They will be accompanied by guest artist 
 Yelber (Ben) Alia, a phenomenal Albanian accordionist. \n\n"On compilations 
 like Transylvania and compositions like Romanian Rhapsody, Cercel’s 
 violin whispered down the spine and seared the heart." - Mark Tunney, The 
 Telegraph-Journal, Saint John NB\n\n"Polished is also the word for Lache 
 Cercel ... the Romanian violinist turned out an ... \nimpeccable, even 
 flashy, program of Romani jazz"- Alexander Varty, The Georgia Straight, 
 Vancouver BC\n\nBiographies, audio, and video are at: \n\n1. 
 http://lachecercel.com/\n  \n2. 
 http://worldmusiccentral.org/artists/artist_page.php?id=4449\n\n3. 
 http://www.youtube.com/watch?v=6MqHQGuTKFk \n\n\n\nMore to 
 Follow\nContinued\n\nMedia personnel can obtain free passes through the 
 venues. Radio promotions are on KALW radio 91.7 FM and KKUP 91.5 FM radio. 
 Watch for announcements on LinkedIn, Twitter, Jambase, Thrillcall, 
 SoundCloud, Yelp, MySpace, Facebook, several San Francisco World Music 
 discussion groups, and our website at: www.lachecercel.com\n\nTour and 
 ticket information are as follows:\n\n1.	Sept. 28 – KALW radio 91.7 FM 
 show at 9 p.m. with Devon Strolovitch\n\n2.	Sept. 30 – San Francisco 
 Djangofest in Mill Valley\nWhere: 142 Throckmorton Theater  - 142 
 Throckmorton Ave., Mill Valley, CA.\nTime: Doors 8p.m./ Show 9 p.m.  – 10 
 p.m.\n       For ticket information go to: 
 http://www.142throckmortontheatre.com/tickets.php or \n       Call 
 415-383-9600\n\n3.	Oct. 2 – Performance with Petunia and the 
 Vipers\nWhere: Starry Plough Pub and Nightclub – 3101 Shattuck Ave., 
 Berkeley, CA.\nTime: Doors 3 p.m./ Show 4 p.m. -7 p.m.\nFor ticket 
 information go to: http://www.starryploughpub.com/eventscalendar/upcoming 
 or call 510-841-2082\n\n4.	Oct. 3 – Performance with CB Brand and Petunia 
 and the Vipers\nWhere: The Crepe Place Restaurant – 1134 – Soquel Ave., 
 Santa Cruz, CA\nTime: 9 p.m.\nFor ticket information go to: 
 http://thecrepeplace.com/events/ or call 831-429-6994\n\n5.	Oct. 4 – 
 Lache Cercel and the Roma Swing Ensemble \nWhere: Brick and Mortar Music 
 Hall – 1710 – Mission St., San Francisco, CA\nTime: 8 p.m. – 10 
 p.m.\nFor ticket information go to: http://www.brickandmortarmusic.com/ or 
 call 888-477-9288\n\n6.	Oct. 5 – Lache Cercel and the Roma Swing Ensemble 
 - Nada Lewis Opening\nWhere: Ashkenaz Music and Dance Community Center – 
 1317 San Pablo Ave., Berkeley, CA.\nTime: Doors 8 p.m./ Show 8:30 p.m. – 
 11:15 p.m.\nFor ticket information go to: 
 http://www.ashkenaz.com/html/tickets.html or call 
 866-468-3399\n\n###\n\nContact:    Charmaine Millott, CEO of Lotus World 
 Music and co-manager of Lache Cercel and\n                  the Roma Swing 
 Ensemble. Email: musicpal@shaw.ca or cmillott@gmail.com    \n               
    Phone: 250-380-9317, in Victoria, B.C., Canada. \n\n\n\n    \n\n\n\n\n 
 https://www.indybay.org/newsitems/2011/09/14/18690350.php
SUMMARY:Brick and Mortar - Lache Cercel and the Roma Swing Ensemble
LOCATION:Brick and Mortar Music Hall - 1710 Mission St., San Francisco
URL:https://www.indybay.org/newsitems/2011/09/14/18690350.php
DTSTART:20111005T030000Z
DTEND:20111005T050000Z
END:VEVENT
END:VCALENDAR
