BEGIN:VCALENDAR
VERSION:2.0
X-WR-CALNAME:www.indybay.org
PRODID:-//indybay/ical// v1.0//EN
BEGIN:VEVENT
UID:Indybay-18689535
SEQUENCE:18774543
CREATED:20110905T234200Z
DESCRIPTION:Minimize greenhouse gas emissions and maximize your sense of community at 
 the Ecology Center's Climate Action Workshop series.\n\nAt these workshops 
 you will:\n\n*Receive information and ideas for taking action to reduce 
 your ecological footprint, facilitate community building, and drive 
 political action on climate change\n*Create a measurable action plan (the 
 scope is entirely up to you!)\n*Benefit from the support, wisdom, and 
 experience of fellow participants, and resources from the Ecology 
 Center\n\nBy participating in both sessions, you'll be given free 
 membership to the Ecology Center for a year if you have not previously been 
 a member.\n\nDates: Mondays, October 3 and 7 from 7-9pm (attendance both 
 sessions is requested)\n\nRSVP: Email Debra at debra@ecologycenter.org or 
 call 510-548-2220 x240 \n 
 https://www.indybay.org/newsitems/2011/09/05/18689535.php
SUMMARY:Free Climate Action Workshop series
LOCATION:2530 San Pablo Ave, Berkeley
URL:https://www.indybay.org/newsitems/2011/09/05/18689535.php
DTSTART:20111004T020000Z
DTEND:20111004T040000Z
END:VEVENT
END:VCALENDAR
