BEGIN:VCALENDAR
VERSION:2.0
X-WR-CALNAME:www.indybay.org
PRODID:-//indybay/ical// v1.0//EN
BEGIN:VEVENT
UID:Indybay-18689144
SEQUENCE:18774043
CREATED:20110831T154000Z
DESCRIPTION:Join the Nurses to make Wall Street pay to Heal America.  Urge your 
 legislators to support the tax on Wall Street for jobs, healthcare and 
 education on Main Street.  This event will take place at Congressman Jim 
 Costa’s office at 855 M Street in Fresno.  Learn more at 
 www.mainstreetcontract.org \n 
 https://www.indybay.org/newsitems/2011/08/31/18689144.php
SUMMARY:Make Wall Street pay to Heal America.
LOCATION:Congressman Jim Costa’s office at 855 M Street in Fresno
URL:https://www.indybay.org/newsitems/2011/08/31/18689144.php
DTSTART:20110901T190000Z
DTEND:20110901T210000Z
END:VEVENT
END:VCALENDAR
