BEGIN:VCALENDAR
VERSION:2.0
X-WR-CALNAME:www.indybay.org
PRODID:-//indybay/ical// v1.0//EN
BEGIN:VEVENT
UID:Indybay-18688839
SEQUENCE:18773620
CREATED:20110827T052200Z
DESCRIPTION:"RADICAL FERRY Vs. BART PO_LICE, All on Board" !\n · Share · Public  WHEN 
 : Sunday Sept. 18, 2011\n2 P.M to 4:30PM\n\nWHERE : SF Ferry Building, by 
 Embarcadero BART Station, \nMuni Line 14 and 14L\n\nWHAT : \nRADICAL FERRY 
 VS BART BLOOD BATH !! \nAll Aboard ! \n* A celebration of LiFE FREE OF 
 OPPRESSION as it is intended to be for ourselves, friends, Elders & 
 families !\n\nWHY : \n\nthis event is a Bay Area Rapid Transit (BART) 
 Economic BOYCOTT, \nhosted by Education Not Incarceration and Idriss 
 Stelley Foundation,\nand other community iondividuals & entities, in front 
 of the SF Ferry Building;\nencouraging folx, WHENEVER feasible,\nto seek 
 alternative means of transportation in SF and across the Bay.\n\n\nHOW 
 :\n\n\n* USE THE FERRY !\n\n* Use carpool hotlines to be picked up for work 
 or to your kids school, \nand back to your home or street corner;\n\n* Call 
 311 or 673-MUNI to find out shortest route and schedules to get from point 
 A to Point B in SF \n(While still keeping our FREE MUNI Struggle going and 
 support a Ballot measure for FREE YOUTH & Disabled FAST PASSES !);\n\n* 
 Walk, Bike, Skate, whenever possible, \nand use your electric wheelchairs 
 on city sidewalks to bypass exploitative transit systems all together 
 !\n\n*Disabled Sisters & Brothers in SF : Use the UCSF shuttle, and 
 Paratransit scripts for their vans and taxi rides !\n\nHOW: \n\nLet's Stay 
 Clear of BART_BLOOD_BATH and have fun together !\n\nWe are NOT seeking a 
 city permit this time.... \nBut will invite the alternative and corporate 
 media, \nso that any repression of our Right to Peaceful Assembly,\nJoy & 
 Celebration of what has made the pretty defunct image of a\n"San Francisco, 
 the Most Liberal City of the World" \nwill be caught on Candid and less 
 Candid Cameras !\n\nWe envision chalk artwork on the sidewalk, clowns, 
 rollerstakers, skateboarders, to draw attention to the Ferry being a 
 healthy alternative to BART, and encourage people to use the ferry 
 transit.\n\nThe BART protests are headed for more criminalization;\n\nwhile 
 we wholeheartedly support No Justice No Bart  efforts, \nand will continue 
 attending Civic Center weekly BART protests thereafter,\n\nBOYCOTT IS OUR 
 ECONOMIC POWER \nTO SEIZE & EXERCISE, NOW!!\n\n\nCalling out all street 
 performers & musicians, skaters, bikers, skateboarders, street clowns, 
 Poets, sidewalk chalk art artists;\n\nBring Your Creative Juices, 
 banners,signs and Revolutionary costumes !\n\nDecorate your bikes and 
 wheelchairs in Memory of Charles Blair Hill and the 5 other Stolen Lives at 
 the hands of BART P0_Lice terror since its creation !\n\n***   
 (Wink-wink)\nall Radical Fairies out there welcome, \n\nbut it's RADICAL 
 F-E-R-R-Y TIME !\n\n~~~~~~~~~~~~~~~~~~~~~~~~~~~~~~~~~~~~~~~~~~~\n\nRSVP & 
 \nCONTACTS FOR MORE INFO :\n\n* Jeremy Miller, director of Education Not 
 Incarceration, \n415-595-2894, email djasik87.9@gmail.com\n\n* mesha 
 Monge_Irizarry, director of Idriss Stelley Foundation, \n415-595-8251, 
 email mamalamesha@gmail.com\n\nYou may also connect with our core team on 
 Idriss Stelley Foundation Facebook 
 at:\n\nhttp://www.facebook.com/groups/116337228453342/\n \n\n 
 https://www.indybay.org/newsitems/2011/08/26/18688839.php
SUMMARY:RADICAL FERRY Vs. BART BLOOD BATH !!!
LOCATION:Ibn front of the San Francisco Ferry Building by the Bay !
URL:https://www.indybay.org/newsitems/2011/08/26/18688839.php
DTSTART:20110918T210000Z
DTEND:20110918T233000Z
END:VEVENT
END:VCALENDAR
