BEGIN:VCALENDAR
VERSION:2.0
X-WR-CALNAME:www.indybay.org
PRODID:-//indybay/ical// v1.0//EN
BEGIN:VEVENT
UID:Indybay-18688825
SEQUENCE:18773570
CREATED:20110826T232100Z
DESCRIPTION:Museum of Children’s Art (MOCHA) and Middle East Children’s Alliance 
 (MECA) present “A Child’s View From Gaza”.\n\nFree Opening Reception 
 Saturday, September 24, 1-3pm\n\nFeaturing\n\n-Poetry by Deema Shehabi and 
 Lorene Zouzounis\n-Edible art by The Great Tortilla Conspiracy\n-Special 
 activities for children including cartooning workshop with Khalil Bendib 
 (ages 10-13)\n-Refreshments and more!\n\n“A Child’s View From Gaza,” 
 an engaging art exhibit by Palestinian children ages 8-14 that reflects 
 their realities and their dreams for the future.\n\nSeptember 24 - November 
 15, 2011 * Exhibit is free to the public* Tuesday-Friday 10am-3pm * 
 Saturday and Sunday 12-4 * MOCHA is closed on Mondays\n\nFor special family 
 events and school field trips connected to this exhibit, plus additional 
 endorsers please contact sophia@mecaforpeace.org\n 
 https://www.indybay.org/newsitems/2011/08/26/18688825.php
SUMMARY:A Child's View of Gaza - Children's Art Exhibit
LOCATION:MOCHA\n538 Ninth Street, Suite 210\nOakland, CA 94607
URL:https://www.indybay.org/newsitems/2011/08/26/18688825.php
DTSTART:20110924T200000Z
DTEND:20110924T220000Z
END:VEVENT
END:VCALENDAR
