BEGIN:VCALENDAR
VERSION:2.0
X-WR-CALNAME:www.indybay.org
PRODID:-//indybay/ical// v1.0//EN
BEGIN:VEVENT
UID:Indybay-18688798
SEQUENCE:18773552
CREATED:20110826T181400Z
DESCRIPTION:How did this revolution start? Where is it headed? Guest Speaker Sharat G. 
 Lin spent a week in Tahrir Square, ground zero for the Egyptian Revolution. 
 He discusses why it is a transformational event for the entire Middle East. 
 Dr. Lin is president of the San Jose Peace & Justice Center. He writes on 
 global political economy, the Middle East and South Asia, labor migration, 
 and public health.\n\nSponsored by the BFUU Social Justice Ctee \nSuggested 
 donation $5-10.. No one turned away. \nWheelchair 
 accessible.\n\nPh:510-841-4824\n\nFor occasional email notices of 
 peace/eco/social justice alerts and related events at BFUU, send any email 
 to:\nbfuusjev-subscribe@lists.riseup.net\n\nFor weekly notices of BFUU 
 services etc. go to:\nwww.bfuu.org/signup.html\n\n 
 https://www.indybay.org/newsitems/2011/08/26/18688798.php
SUMMARY:Revolution in Egypt and the Arab World
LOCATION:Berkeley Fellowship of Unitarian Universalists’ Hall \n1924 Cedar 
 (@Bonita), Berkeley   www.bfuu.org\n
URL:https://www.indybay.org/newsitems/2011/08/26/18688798.php
DTSTART:20110921T020000Z
DTEND:20110921T040000Z
END:VEVENT
END:VCALENDAR
