BEGIN:VCALENDAR
VERSION:2.0
X-WR-CALNAME:www.indybay.org
PRODID:-//indybay/ical// v1.0//EN
BEGIN:VEVENT
UID:Indybay-18687289
SEQUENCE:18771498
CREATED:20110809T231300Z
DESCRIPTION:Spend a delightful day exploring the mechanical marvels along San 
 Francisco's North Shore. See giant running steam engines, 
 turn-of-the-century automata, mechanical computers, a wave organ, an 8 foot 
 high mechanical planetarium, vintage steam boats and more...\n\nYou'll be 
 able to map your own route for the event and spend as much time at each 
 location as you'd like. We encourage you to walk, bicycle or use public 
 transport for Mechanicrawl; maps, featured tours and demonstrations and 
 additional info will be listed on the website.\n 
 https://www.indybay.org/newsitems/2011/08/09/18687289.php
SUMMARY:Mechanicrawl
LOCATION:San Francisco's North Shore\n       
URL:https://www.indybay.org/newsitems/2011/08/09/18687289.php
DTSTART:20110924T170000Z
DTEND:20110925T000000Z
END:VEVENT
END:VCALENDAR
