BEGIN:VCALENDAR
VERSION:2.0
X-WR-CALNAME:www.indybay.org
PRODID:-//indybay/ical// v1.0//EN
BEGIN:VEVENT
UID:Indybay-18686987
SEQUENCE:18771258
CREATED:20110805T211200Z
DESCRIPTION:Into the Current: Burma's Political 
 Prisoners\nwww.intothecurrent.org\nDirected by Jeanne 
 Hallacy\n\nCo-Production with the Democratic Voice of Burma (55 
 minutes)\n\nInto the Current tells the story of Burma's unsung heroes - 
 its\nprisoners of conscience - and the price they pay for speaking truth 
 to\npower in a military dictatorship. Using footage secretly shot in 
 Burma,\nthe film uncovers the stories and sacrifice of 'ordinary' people 
 of\nexceptional courage, and the leaders who inspire them. Former\nprisoner 
 Bo Kyi and his underground team in exile and inside Burma\nwork tirelessly 
 and at great risk on behalf of their 2,100 jailed\ncolleagues. The film 
 portrays Aung San Suu Kyi's visionary\nleadership of the country's 
 non-violent movement and the selfless\ndedication of leading activists: Min 
 Ko Naing, Zarganar and Nilar\nThein. While they and countless others fight 
 on, the dream of a free\nBurma remains alive. \n\n 
 https://www.indybay.org/newsitems/2011/08/05/18686987.php
SUMMARY:Into the Current: Burma's Political Prisoners -Documentary Screening and Live Music
LOCATION:Into the Current: Burma's Political 
 Prisoners\nwww.intothecurrent.org\nDOCUMENTARY FILM SCREENING BENEFIT\nLIVE 
 TRADITIONAL BURMESE MUSIC\nperformed by Su Wai and Rick Heizman\nThursday 
 11 August 8 pm \nKaleidoscope www.kaleidoscopefreespeechzone.com\n24th 
 Street between Shotwell and Folsom\nProceeds from the screening will be 
 used for the final postproduction\n55 -minute documentary film. 
URL:https://www.indybay.org/newsitems/2011/08/05/18686987.php
DTSTART:20110812T030000Z
DTEND:20110812T050000Z
END:VEVENT
END:VCALENDAR
