BEGIN:VCALENDAR
VERSION:2.0
X-WR-CALNAME:www.indybay.org
PRODID:-//indybay/ical// v1.0//EN
BEGIN:VEVENT
UID:Indybay-18686533
SEQUENCE:18770612
CREATED:20110731T135900Z
DESCRIPTION:Free event. Live Music. Environmental Displays. Children's Activities. 
 Tours of Beaver habitat. Celebrate the famous Martinez Beavers and their 
 effect on our watershed, our wildlife and our community.\n 
 https://www.indybay.org/newsitems/2011/07/31/18686533.php
SUMMARY:Beaver Festival IV
LOCATION:"Beaver Park"\nAlhambra Ave & Marina Vista\nMartinez CA
URL:https://www.indybay.org/newsitems/2011/07/31/18686533.php
DTSTART:20110806T180000Z
DTEND:20110806T230000Z
END:VEVENT
END:VCALENDAR
