BEGIN:VCALENDAR
VERSION:2.0
X-WR-CALNAME:www.indybay.org
PRODID:-//indybay/ical// v1.0//EN
BEGIN:VEVENT
UID:Indybay-18686487
SEQUENCE:18770722
CREATED:20110730T175900Z
DESCRIPTION:KPFA Radio presents:\nJOHN PILGER’S NEW CENSORED FILM:\nThe War You 
 Don’t See\n\nPlus Peter Philips and Mickey Huff of Project Censored and 
 Dennis Bernstein from Flashpoints, \ntalking with John Pilger via 
 Skype.\nFriday 12th, 2011, 7:30 pm\nFirst Congregational Church \n2345 
 Channing Way, Berkeley – wheelchair accessible. \n$10 advance tickets: 
 http://www.brownpapertickets.com/event/190077\nor 800-838-3006 \nand: 
 Pegasus Books (3 locations), Mrs. Dalloway’s, Moe’s Books, Walden Pond, 
 DIESEL A Bookstore, ($12 door).\nInformation: www.kpfa.org/events. Benefits 
 KPFA and Project Censored.\n\nJohn Pilger returns to the subject that can't 
 be revived often enough: the grotesque untruth of "weapons of mass 
 destruction": a cloudy concept, eagerly amplified and lent credibility by 
 credulous and submissive journalists who, after 9/11, lost their nerve en 
 masse. \n\nThe Lannan Foundation banned the film and cancelled a visit by 
 John Pilger to the U.S. without explanation. Now KPFA brings this 
 controversial film to you! And Pilger will be available from Britain (on 
 skype) to anwer your questions.\n\nPilger's contention is that on 
 Afghanistan, on Iraq and on Israel and the Palestinian territories, the 
 mainstream media simply takes the official line. The force of his film is 
 its contention that the colossal scale of civilian casualties is downgraded 
 in importance so that it doesn't figure as news at all.  It’s invisible 
 deep background and ignored. Pilger gives due respect to WikiLeaks, 
 although his praise for al-Jazeera's independence is ironic, given that 
 WikiLeaks has just revealed the possibility that the Qatar government is 
 manipulating the channel.\n\n\n\n\n\n 
 https://www.indybay.org/newsitems/2011/07/30/18686487.php
SUMMARY:John Pilger’s New Censored Film: The War You Don’t See
LOCATION:First Congregational Church\n2345 Channing Way, Berkeley
URL:https://www.indybay.org/newsitems/2011/07/30/18686487.php
DTSTART:20110813T023000Z
DTEND:20110813T043000Z
END:VEVENT
END:VCALENDAR
