BEGIN:VCALENDAR
VERSION:2.0
X-WR-CALNAME:www.indybay.org
PRODID:-//indybay/ical// v1.0//EN
BEGIN:VEVENT
UID:Indybay-18685576
SEQUENCE:18769286
CREATED:20110721T210700Z
DESCRIPTION:Together celebrating Bolivia's Independence Day, the music ensembles Jatun 
 Marka & Hanakpacha. Performing traditional and contemporary Bolivian & 
 South American music. \n\n\n 
 https://www.indybay.org/newsitems/2011/07/21/18685576.php
SUMMARY:Celebrating Bolivia's Independence Day
LOCATION:La Peña Cultural Center\n3105 Shattuck Avenue\nBerkeley, CA 94705
URL:https://www.indybay.org/newsitems/2011/07/21/18685576.php
DTSTART:20110806T030000Z
DTEND:20110806T043000Z
END:VEVENT
END:VCALENDAR
