BEGIN:VCALENDAR
VERSION:2.0
X-WR-CALNAME:www.indybay.org
PRODID:-//indybay/ical// v1.0//EN
BEGIN:VEVENT
UID:Indybay-18683343
SEQUENCE:18766303
CREATED:20110630T180700Z
DESCRIPTION:\n\n\nThe soundtrack of the movie "The Fog of War" features the life of 
 former Secretary of Defense Robert McNamara.  He served under President 
 Kennedy and Johnson.  He  reflects on his part in the bombing of Tokyo, the 
 Cuban Missile Crisis, and the Vietnam War.  \n\nThis film could have been 
 titled "The Evil That Men Do".  McNamara talks about war crimes he and 
 others have committed.  He observes the failures of government officials at 
 the highest level to understand the basis of the wars they direct.  I have 
 to ask, can we learn from history?\nSource: The Fog of War Movie.  Most of 
 the book can be found at The Fog of War Book\n\nMusic includes War What Is 
 It Good For, Earth Anthem, I Just Can't Wait to Be King, We'll Meet 
 Again\n\nPlay Program or DownloadPart 1(mp3)Part 2(mp3)Part 3(mp3)Part 
 4(mp3)Great Speeches and Interviews' Past Programs\n 
 https://www.indybay.org/newsitems/2011/06/30/18683343.php
SUMMARY:The Fog of War
LOCATION:Streaming or download at http://greatspeechesandinterviews.blogspot.com/ 
 Access Sacramento at 
 http://www.live365.com/stations/accesssacramento?site=pro 
URL:https://www.indybay.org/newsitems/2011/06/30/18683343.php
DTSTART:20110704T010000Z
DTEND:20110704T030000Z
END:VEVENT
END:VCALENDAR
