BEGIN:VCALENDAR
VERSION:2.0
X-WR-CALNAME:www.indybay.org
PRODID:-//indybay/ical// v1.0//EN
BEGIN:VEVENT
UID:Indybay-18683136
SEQUENCE:18766070
CREATED:20110628T040900Z
DESCRIPTION:At 2pm. on July 4th, the San Francisco Mime Troup performs in Dolores Park. 
  At 4pm the bigger show begins, a take-over of a house taken from a family 
 victimized by predatory lenders.  Homes Not Jails, the lead organization in 
 the San Francisco political squatting movement, teamed up with The Brass 
 Liberation Orchestra, Tenants United, the Tenants Union, W.R.A.P., and the 
 Housing Rights Committee.\n\nThe location of the squat will be kept secret 
 until the participants get there, which means some walking will be done!  
 There will be a cook-out (food provided by...Food Not Bombs!) and, inside 
 the building, the First Annual Unorthodox Housing Conference will get 
 underway and all squatters are welcome to attend.  This poverty skolar will 
 be there.  There will be "soap-box" public speaking outside the building.  
 It is always a good time to aggressively resist the economical and ethical 
 crimes of the predatory mortgage lenders, et al. \n 
 https://www.indybay.org/newsitems/2011/06/27/18683136.php
SUMMARY:Celebrate July 4th Squatting with Homes Not Jails
LOCATION:a house taken from a family victimized by predatory lenders
URL:https://www.indybay.org/newsitems/2011/06/27/18683136.php
DTSTART:20110704T230000Z
DTEND:20110705T020000Z
END:VEVENT
END:VCALENDAR
