BEGIN:VCALENDAR
VERSION:2.0
X-WR-CALNAME:www.indybay.org
PRODID:-//indybay/ical// v1.0//EN
BEGIN:VEVENT
UID:Indybay-18682959
SEQUENCE:18765755
CREATED:20110627T021000Z
DESCRIPTION:Hosted by Rene \nlovegrenade@gmail.com \n\n"fundamentals of Contact 
 Improvisation" all levels of experience welcome, please wear long sleeves 
 and long pants.\n\nRené Alvarez has been practicing contact improv since 
 2000, and teaching since 2007. He has taken over 500 hours of classes and 
 completed workshops with Sara Shelton Mann, Nancy Stark Smith, Ray Chung, 
 Martin Keogh, Frey Faust, Nita Little, Kira Kirsch, Chris Aiken, Karl 
 Frost, and many others.\n\nMosswood park (corner of Macarthur and Broadway) 
 \nSundays: July 17th, July 31st, August 7th and august 14th from 1:30 to 
 3:30 PM\n\n https://www.indybay.org/newsitems/2011/06/26/18682959.php
SUMMARY:East Bay Free Skool Class: Contact Improvisation
LOCATION:Mosswood Park (Corner of 4th and Broadway) 
URL:https://www.indybay.org/newsitems/2011/06/26/18682959.php
DTSTART:20110807T203000Z
DTEND:20110807T223000Z
END:VEVENT
END:VCALENDAR
