BEGIN:VCALENDAR
VERSION:2.0
X-WR-CALNAME:www.indybay.org
PRODID:-//indybay/ical// v1.0//EN
BEGIN:VEVENT
UID:Indybay-18682076
SEQUENCE:18764499
CREATED:20110617T003700Z
DESCRIPTION:California is one of the few states in the United States that does not have 
 a depletion oil tax. Even Sarah Palin increased Alaska's oil depletion tax 
 from 23% to 25%. Some of this oil is even on California State lands but is 
 not taxed.\n\nPeter Mathews is a professor at Cypress College in Orange 
 County. He will discuss the present fiscal crisis in California, where the 
 money is, and why an oil depletion tax can finance education and resolve 
 the present budget crisis.\n\nSharat G. Lin will give a brief introduction 
 to the upstream oil industry in California.\n\nAll welcomed Donations 
 accepted\nThis event is sponsored by San Jose Peace and Justice Center\n\n 
 https://www.indybay.org/newsitems/2011/06/16/18682076.php
SUMMARY:The Oil Industry and California's Fiscal Crisis
LOCATION:San Jose Peace & Justice Center\n48 South 7th Street\nSan José, CA 95112 
URL:https://www.indybay.org/newsitems/2011/06/16/18682076.php
DTSTART:20110626T013000Z
DTEND:20110626T033000Z
END:VEVENT
END:VCALENDAR
