BEGIN:VCALENDAR
VERSION:2.0
X-WR-CALNAME:www.indybay.org
PRODID:-//indybay/ical// v1.0//EN
BEGIN:VEVENT
UID:Indybay-18681886
SEQUENCE:18764175
CREATED:20110614T174800Z
DESCRIPTION:A broad coalition of Bay Area and state-wide political single payer 
 advocates will hold a two hour rally in favor of "Medicare-for-all" (i.e. 
 single payer health care) and in opposition to the health insurance 
 industry. \n\nThe rally will explain why a single payer health care system 
 will meet the medical needs of all Americans.  \n\nThe rally participants 
 are calling for the end of private health insurance.  These insurance 
 companies spend 30 cents of each health care dollar on profits and 
 administrative costs while insuring the healthy and avoiding the sick.  
 \n\n\nWHO:\n  																										*Tim Paulson, Executive Director of 
 the San Francisco Labor Council;\n\n*Dr. Hank Abrons, President of PNHP, 
 Physicians for a National Health Plan-California\n\n*Karen Smulevitz, 
 member of CARA, California Association of Retired Americans;\n\n*Don 
 Bechler, Chair, Single Payer Now\n\n*Reverend Israel Alvaran, community 
 organizer, UNITE/HERE Local 2\n\n*Raging Grannies & Code Pink Billionaires 
 for Wealthcare\n\n*Faith Petric, San Francisco folk singer\n\nThere will be 
 life size puppets presenting a Punch and Judy show presenting the conflict 
 between the private health care insurance industry and the medical needs of 
 all in this country.\n\n 
 https://www.indybay.org/newsitems/2011/06/14/18681886.php
SUMMARY:Medicare for All! End Private Insurance
LOCATION:WHEN:  Thursday, June 16, 2011, 9:00 am to 11:00 am\n\nWHERE:  Just outside 
 Moscone Center West, 800 Howard Street, at the corner of 4th Street, San 
 Francisco, California
URL:https://www.indybay.org/newsitems/2011/06/14/18681886.php
DTSTART:20110616T160000Z
DTEND:20110616T180000Z
END:VEVENT
END:VCALENDAR
