BEGIN:VCALENDAR
VERSION:2.0
X-WR-CALNAME:www.indybay.org
PRODID:-//indybay/ical// v1.0//EN
BEGIN:VEVENT
UID:Indybay-18681871
SEQUENCE:18764143
CREATED:20110614T144400Z
DESCRIPTION:San Francisco Waterfront Labor History Walk\nWith Lawrence Shoup and Peter 
 O’Driscoll\nThere are many stories to be told about labor struggles in 
 San Francisco. This story is about the maritime industry from 1835 until 
 the burning of the blue book in 1934.\nAlso labor historian Larry Shoup 
 will talk about the history of the 1901 transportation workers strike, 
 which included the Teamsters and was smashed by the San Francisco police. 
 This strike in part led to the formation of the San Francisco Union Labor 
 Party, which in 1905 swept the election and took control of the city.\nSee 
 also:\nhttp://www.laborfest.net/2011/2011schedule.htm\n\n 
 https://www.indybay.org/newsitems/2011/06/14/18681871.php
SUMMARY:Laborfest: SF Waterfront Labor Walk
LOCATION:Meet at 75 Folsom St. - Entrance of Hills Brothers Coffee Building, San 
 Francisco.  Near Embarcadero, 3 bloccks south of Market Street.  
 Embarcadero BART/Muni station.  All buses going on Market and Mission 
 Streets to Embarcadero.  All trains going on or under Market to 
 Embarcadero.\n
URL:https://www.indybay.org/newsitems/2011/06/14/18681871.php
DTSTART:20110710T170000Z
DTEND:20110710T190000Z
END:VEVENT
END:VCALENDAR
