BEGIN:VCALENDAR
VERSION:2.0
X-WR-CALNAME:www.indybay.org
PRODID:-//indybay/ical// v1.0//EN
BEGIN:VEVENT
UID:Indybay-18681649
SEQUENCE:18763874
CREATED:20110612T180500Z
DESCRIPTION:SF Mime Troupe - "2012 - The Musical!"  \nFree Performances on July 2, 3 
 and 4 at 2; music at 1:30 at Dolores Park.\nOn July 4, Sisters of Perpetual 
 Indulgence provide opening act, much loved by all.\nA small political 
 theater company, Theater BAM!, finds itself at a crossroads: should they 
 keep telling the stories they feel can change the world (and starve while 
 telling them), or feed at the corporate trough, sell out, and be the 
 mouthpiece for The Man. Tough decision. But before having to make it, they 
 are offered an artistic commission that may save the company; all they have 
 to do is create a new play, “2012 - The Musical!” But is it political? 
 Will it keep with the company’s original mission? What’s the true 
 purpose of this frivolous production, and who’s really bankrolling the 
 thing? \nSee 
 also\nhttp://www.laborfest.net/2011/2011schedule.htm\nwww.sfmt.org\n\n\n 
 https://www.indybay.org/newsitems/2011/06/12/18681649.php
SUMMARY:Laborfest: "2012 - The Musical!" SF Mime Troupe
LOCATION:Dolores Park - 18th St. & Dolores, San Francisco.  Near 16th St BART, 
 Church and Market Muni Metro station.\n
URL:https://www.indybay.org/newsitems/2011/06/12/18681649.php
DTSTART:20110704T210000Z
DTEND:20110704T230000Z
END:VEVENT
END:VCALENDAR
