BEGIN:VCALENDAR
VERSION:2.0
X-WR-CALNAME:www.indybay.org
PRODID:-//indybay/ical// v1.0//EN
BEGIN:VEVENT
UID:Indybay-18680668
SEQUENCE:18762384
CREATED:20110529T061600Z
DESCRIPTION:\nFilm evenings begin with potluck refreshments and social hour at  6:30 
 pm,\nfollowed by the film at  7:30 pm, followed by a discussion after the 
 film.\n\nEARTH:  THE CLIMATE WARS\nEpisode III:  New Challenges\nby Iain 
 Stewart\n\nDr Iain Stewart looks at the biggest challenge now facing 
 climate scientists:  just how can they predict exactly what changes global 
 warming will bring?  It’s a journey that takes him from early attempts to 
 model the climate system with dishpans, to supercomputers, and to the front 
 line of climate research today: Greenland.  Most worryingly, he discovers 
 that scientists are becoming increasingly concerned that their models are 
 actually underestimating the speed of changes already 
 underway.\n\nWheelchair accessible around the corner at  411  28th  
 Street\n\n$5 donations are accepted\n\n \n 
 https://www.indybay.org/newsitems/2011/05/28/18680668.php
SUMMARY:Earth: The Climate Wars III
LOCATION:Humanist Hall\n390  27th  Street\nuptown Oakland, between Telegraph and 
 Broadway\nhttp://www.HumanistHall.org
URL:https://www.indybay.org/newsitems/2011/05/28/18680668.php
DTSTART:20110616T023000Z
DTEND:20110616T043000Z
END:VEVENT
END:VCALENDAR
