BEGIN:VCALENDAR
VERSION:2.0
X-WR-CALNAME:www.indybay.org
PRODID:-//indybay/ical// v1.0//EN
BEGIN:VEVENT
UID:Indybay-18680572
SEQUENCE:18762257
CREATED:20110527T204300Z
DESCRIPTION:"Climate change is not just about penguins, plants and polar bears; it's 
 about people"\n              -Ed Maibach, Center for Climate Change 
 Communication\n\nAnd not just some people; it's about everyone. But how do 
 you engage your neighbor who doesn't have climate change on his radar or 
 your co-worker who's interested but not sure what she can do? Join the 
 Ecology Center for our free Climate Action Workshop Facilitator Training. 
 During our one-session training, you'll receive materials and information 
 to involve your friends, family, neighbors, coworkers, congregation members 
 or others in taking action on climate change through community workshops. 
 We'll also provide ongoing support as you plan and hold your own workshop 
 series. No experience necessary to participate. \n\nBy organizing a series, 
 you'll be given free membership to the Ecology Center for a year if you 
 have not previously been a member.\n\nRSVP to debra@ecologycenter.org\n 
 https://www.indybay.org/newsitems/2011/05/27/18680572.php
SUMMARY:Free Climate Action Facilitator Training
LOCATION:2530 San Pablo Ave, Berkeley, CA (near Dwight Way)
URL:https://www.indybay.org/newsitems/2011/05/27/18680572.php
DTSTART:20110614T010000Z
DTEND:20110614T040000Z
END:VEVENT
END:VCALENDAR
