BEGIN:VCALENDAR
VERSION:2.0
X-WR-CALNAME:www.indybay.org
PRODID:-//indybay/ical// v1.0//EN
BEGIN:VEVENT
UID:Indybay-18680482
SEQUENCE:18762146
CREATED:20110526T095800Z
DESCRIPTION:Protest on the University Ave Pedestrian Overpass! Berkeley\n\nHold large 
 HOT PINK banners! Sing and Dance with GG and Orion! Bring your musical 
 instruments, drums, voice; wear HOT PINK! Or just BE THERE!\n\nThis is a 
 fun and inspiring action that helps to get out the message challenging the 
 myth that we do not have money in our state and communities.\n\nWe KNOW we 
 always have $$$ for wars; and we KNOW the richest people in this state do 
 NOT pay their fair share of taxes; and we KNOW that 2/3rds of corporations 
 pay NO TAXES at all!\n\nSTAND with us tonite and every Friday 4-6pm!\n 
 https://www.indybay.org/newsitems/2011/05/26/18680482.php
SUMMARY:TAX the RICH! NO CUTS! NO MORE $$ for WARS! PROTEST
LOCATION:University Ave Pedestrian Bridge Overpass\nfoot of University Ave, 
 Berkeley\n(carpool & park in Seabreeze Market parking lot; 51B bus) 
URL:https://www.indybay.org/newsitems/2011/05/26/18680482.php
DTSTART:20110527T230000Z
DTEND:20110528T010000Z
END:VEVENT
END:VCALENDAR
