BEGIN:VCALENDAR
VERSION:2.0
X-WR-CALNAME:www.indybay.org
PRODID:-//indybay/ical// v1.0//EN
BEGIN:VEVENT
UID:Indybay-18680373
SEQUENCE:18761956
CREATED:20110524T021800Z
DESCRIPTION:Esta junta estará disponible en español\n\nPSL Forum and discussion\nWhat 
 is the Afghanistan War All About?\nThe 'War on Terror' After Osama Bin 
 Laden\n\nFriday, May 27, 7pm\n2969 Mission St., San Francisco\n\nAfter the 
 killing of Osama Bin Laden, the U.S. government has gone on a 
 “patriotic” offensive. The White House is declaring "victory" in its 
 phony "war on terror." Former Bush administration officials are claiming 
 that torture, rendition, war and mass killing "worked." But what's really 
 different after Bin Laden's death? A decade after 9/11, the U.S. military 
 is still occupying Afghanistan, failing to show progress in its goal of 
 installing a stable, client regime. Over 50,000 troops still occupy Iraq 
 and U.S. drones continue to bomb poor villages in Pakistan. Come on Friday 
 to discuss the following:\n\nWhat does the killing of Osama Bin Laden mean 
 for the people of Afghanistan? Or for the United States?\nWhy is the United 
 States in Afghanistan in the first place?\nWhat force can end U.S. wars and 
 win jobs, health care and free education for all?\n\nLocation: 2969 Mission 
 St. San Francisco\n$3 - $5 donation requested, no one turned away for lack 
 of funds.\n(Refreshments served. Cross street 25th and 26th. Near 24th St. 
 BART. MUNI #14, 49. For more info contact PSL at 415-821-6171.\n\nCheck out 
 our website: http://www.pslweb.org\nDaily News & Analysis from a Marxist 
 Perspective. The Party for Socialism and Liberation has a website filled 
 with great political material from a Marxist perspective. On it, you can 
 get news and analysis, breaking stories, learn about PSL events across the 
 country, download audio and video and other political resources, find out 
 how to get involved with the PSL and much more. Go to the website and look 
 around, bookmark it and share it with your friends and family. Check  
 http://www.pslweb.org each day for updated information and news. Make 
 socialism a part of your everyday life!\n\nSubscribe: check out our 
 bi-weekly newspaper Liberation\nGet a Marxist analysis of the critical 
 political developments of the day, reports on liberation struggles around 
 the world, and educational articles with content that every activist should 
 learn. Go to  http://www.pslweb.org to read current selections and back 
 issues and to find out how to subscribe. Liberation is our biweekly 
 newspaper. Go to  http://www.pslweb.org to read it and find out more about 
 the working class struggle.\n\nForo y Discusion de Partido para Socialismo 
 y Liberación\n¿De que en realidad se trata la guerra de Afganistán?\nLa 
 “Guerra contra el Terror” después de Osama Bin Laden\n\nviernes, 27 de 
 mayo, 7pm\n2969 Calle Mission, San Francisco\n\nDespués del asesinato de 
 Osama Bin Laden, el gobierno de los EE.UU. se ha lanzado a una ofensiva 
 “patriótica”. La Casa Blanca esta declarando “victoria” en su 
 falsa “guerra contra el terror”. Los antiguos oficiales de la 
 administración de Bush están reclamando que la tortura, rendición, 
 guerra, y matanzas masivas “funcionan”. ¿Pero que en verdad es 
 diferente después de la muerte de Bin Laden? Una década después del 
 9/11, el ejercito de los EE.UU. todavía esta ocupando Afganistán, sin 
 poder mostrar un avance en su meta de instalar un régimen estable y 
 títere. Mas de 50.000 tropas todavía ocupan Irak y las avionetas sin 
 piloto continúan bombardeando a los pueblos pobres en Pakistán. Venga 
 este viernes para discutir los siguiente:\n\n    ¿Que significa el 
 asesinato de Osama Bin Laden para el pueblo de Afganistán? ¿O los 
 EE.UU.?\n    ¿Por qué esta los EE.UU. en Afganistán en primer caso?\n    
 ¿Qué fuerza puede terminar las guerras estadounidenses y ganar trabajos, 
 cuidado medico, y educación gratuita para todos?\n\n2969 Mission 
 St.\nSugerimos una donación de $3 a $5, todos bienvenidos, con o sin 
 fondos.\n(Habrá antojitos. Esquiná de la calle 25 y 26, acerca de BART/24 
 St., MUNI #14, 49)\n\nPara mayor información llame al PSL, en 
 415-821-6171.\n\nVisite nuestra página web: http://www.pslweb.org\nDel 
 día y análisis desde un punto de vista Marxista. El Partido para el 
 Socialismo y Liberación tiene una página web llena de gran material 
 político desde un punto de vista Marxista. En la página, obtendrá 
 noticias y análisis, noticias del momento, y aprenderá sobre eventos del 
 PSL por todo el país. Puede bajar audio y video y otros recursos 
 políticos, encontrará información de cómo involucrarse con el PSL, y 
 mucho más. Vaya a nuest ra página web y explórela, márquela y 
 compártela con sus amigos y familia. Visite http://www.pslweb.org cada 
 día para información actual y noticias. ¡Haga el socialismo parte de 
 cada día de su vida!\n\nSubscríbese al Liberación y revise nuestro 
 periódico bisemanal\nNoticias del día y análisis desde un punto de vista 
 Marxista. Liberación es una publicación de cada 15 días para activistas, 
 escrito por activistas. Recibe análisis socialista sobre acontecimientos 
 políticos críticos del día, reportes sobre luchas de liberación 
 alrededor del mundo, y artículos educativos con contenido que cada 
 activista debería aprender.\n\nVaya a http://www.pslweb.org para leer 
 selecciones actuales y publicaciones anteriores y para aprender como 
 subscribirse. Liberación es nuestro periódico bisemanal. Visite 
 http://www.pslweb.org para leerlo y encontrar más sobre la lucha de la 
 clase trabajadora.\n 
 https://www.indybay.org/newsitems/2011/05/23/18680373.php
SUMMARY:What's the Afghanistan War All About?/¿De que en realidad se trata la guerra de Afganistán
LOCATION: Location: 2969 Mission St. San Francisco\n$3 - $5 donation requested, no 
 one turned away for lack of funds.\n(Refreshments served. Cross street 25th 
 and 26th. Near 24th St. BART. MUNI #14, 49. For more info contact PSL at 
 415-821-6171.\n\n2969 Mission St.\nSugerimos una donación de $3 a $5, 
 todos bienvenidos, con o sin fondos.\n(Habrá antojitos. Esquiná de la 
 calle 25 y 26, acerca de BART/24 St., MUNI #14, 49)\n\nPara mayor 
 información llame al PSL, en 415-821-6171.
URL:https://www.indybay.org/newsitems/2011/05/23/18680373.php
DTSTART:20110528T020000Z
DTEND:20110528T040000Z
END:VEVENT
END:VCALENDAR
