BEGIN:VCALENDAR
VERSION:2.0
X-WR-CALNAME:www.indybay.org
PRODID:-//indybay/ical// v1.0//EN
BEGIN:VEVENT
UID:Indybay-18680368
SEQUENCE:18761949
CREATED:20110524T004500Z
DESCRIPTION:May 24 is Judi Bari Day.\nThis year, we will gather at the site of the bomb 
 explosion at the precise time it changed many of our lives with a loud 
 boom.\n\nPark Blvd. near MacArthur in front of Oakland High School\nThe 
 time the bomb exploded was close to noon.  We will gather by 11:30 to say 
 and hear words and observe "the moment": right around noon.\n\n Every year 
 since that fateful day in 1990, we have, in one way or another, remembered 
 what happened that day--a memory against forgetting--we have honored the 
 warrior woman Judi Bari, we have protested the nefarious FBI and their 
 COINTELPRO tactics, still alive today, we have remembered that we are 
 community.\n\nLast year on the 20th anniversary of the bombing of Judi Bari 
 and Darryl Cherney, we had two big commemorative events and brought 
 together a huge number of people that helped us remember who our community 
 is, and the threads that tie us together.  \n\nBringing songs and musical 
 instruments would be wonderful.\n Viva Judi!\n 
 https://www.indybay.org/newsitems/2011/05/23/18680368.php
SUMMARY:Judi Bari Day commemoration
LOCATION:Park Blvd. in Oakland near MacArthur, at Oakland HS
URL:https://www.indybay.org/newsitems/2011/05/23/18680368.php
DTSTART:20110524T183000Z
DTEND:20110524T200000Z
END:VEVENT
END:VCALENDAR
